|SUCCESS| pw136257-136259 [PATCH] [v5,3/3] net/mlx5: add compare ite
dpdklab at iol.unh.edu
dpdklab at iol.unh.edu
Thu Feb 1 14:56:46 CET 2024
Test-Label: iol-unit-arm64-testing
Test-Status: SUCCESS
http://dpdk.org/patch/136259
_Testing PASS_
Submitter: Suanming Mou <suanmingm at nvidia.com>
Date: Thursday, February 01 2024 12:29:22
DPDK git baseline: Repo:dpdk
Branch: master
CommitID:8e5cbd3d1f6f077abdcb2ef4de027603ba9af5ca
136257-136259 --> testing pass
Test environment and result as below:
+--------------------------+----------------+
| Environment | dpdk_unit_test |
+==========================+================+
| CentOS Stream 9 (ARM) | PASS |
+--------------------------+----------------+
| Fedora 38 (ARM) | PASS |
+--------------------------+----------------+
| Debian 11 (Buster) (ARM) | PASS |
+--------------------------+----------------+
| Ubuntu 20.04 (ARM) | PASS |
+--------------------------+----------------+
| Fedora 38 (ARM Clang) | PASS |
+--------------------------+----------------+
CentOS Stream 9 (ARM)
Kernel: Container Host Kernel
Compiler: gcc 11.3.1
Fedora 38 (ARM)
Kernel: Depends on container host
Compiler: gcc 13.1.1
Debian 11 (Buster) (ARM)
Kernel: Container Host Kernel
Compiler: gcc 10.2.1
Ubuntu 20.04 (ARM)
Kernel: Container Host Kernel
Compiler: gcc 9.4.0
Fedora 38 (ARM Clang)
Kernel: Depends on container host
Compiler: clang 16.0.3
To view detailed results, visit:
https://lab.dpdk.org/results/dashboard/patchsets/29015/
UNH-IOL DPDK Community Lab
To manage your email subscriptions, visit:
https://lab.dpdk.org/results/dashboard/preferences/subscriptions/
More information about the test-report
mailing list