|SUCCESS| pw136255-136254 [PATCH] [v5,2/2] test/devargs: add eth dev
dpdklab at iol.unh.edu
dpdklab at iol.unh.edu
Thu Feb 1 15:48:03 CET 2024
Test-Label: iol-abi-testing
Test-Status: SUCCESS
http://dpdk.org/patch/136254
_Testing PASS_
Submitter: Harman Kalra <hkalra at marvell.com>
Date: Thursday, February 01 2024 10:02:19
DPDK git baseline: Repo:dpdk
Branch: master
CommitID:3178e37c65a676366f33f0bc56f49d9b26a06448
136255-136254 --> testing pass
Test environment and result as below:
+------------------+----------+
| Environment | abi_test |
+==================+==========+
| CentOS Stream 9 | PASS |
+------------------+----------+
| Fedora 37 | PASS |
+------------------+----------+
| openSUSE Leap 15 | PASS |
+------------------+----------+
CentOS Stream 9
Kernel: 4.18.0-240.10.1.el8_3.x86_64
Compiler: gcc 11.3.1 20220421
Fedora 37
Kernel: Depends on container host system
Compiler: gcc 12.3.1
openSUSE Leap 15
Kernel: 4.18.0-240.10.1.el8_3.x86_64
Compiler: gcc 7.5.0
To view detailed results, visit:
https://lab.dpdk.org/results/dashboard/patchsets/29013/
UNH-IOL DPDK Community Lab
To manage your email subscriptions, visit:
https://lab.dpdk.org/results/dashboard/preferences/subscriptions/
More information about the test-report
mailing list