|SUCCESS| [GIT MASTER] 2b551097b3443ebf662e4d140600a4c9b108e73c

dpdklab at iol.unh.edu dpdklab at iol.unh.edu
Thu Feb 1 22:33:04 CET 2024


_Testing PASS_

Branch: dpdk-next-crypto

2b551097b3443ebf662e4d140600a4c9b108e73c --> testing pass

Test environment and result as below:

+-----------------------+----------------+---------------------------+------------------------------+--------------+
|      Environment      | dpdk_unit_test | cryptodev_sw_zuc_autotest | cryptodev_sw_snow3g_autotest | lpm_autotest |
+=======================+================+===========================+==============================+==============+
| CentOS Stream 9 (ARM) | PASS           | SKIPPED                   | SKIPPED                      | SKIPPED      |
+-----------------------+----------------+---------------------------+------------------------------+--------------+
| Fedora 37 (ARM)       | PASS           | SKIPPED                   | SKIPPED                      | SKIPPED      |
+-----------------------+----------------+---------------------------+------------------------------+--------------+
| Debian 11 (arm)       | SKIPPED        | PASS                      | PASS                         | SKIPPED      |
+-----------------------+----------------+---------------------------+------------------------------+--------------+
| Ubuntu 20.04 ARM SVE  | SKIPPED        | SKIPPED                   | SKIPPED                      | PASS         |
+-----------------------+----------------+---------------------------+------------------------------+--------------+


CentOS Stream 9 (ARM)
	Kernel: Container Host Kernel
	Compiler: gcc 11.3.1

Fedora 37 (ARM)
	Kernel: Depends on container host
	Compiler: gcc 12.3.1

Debian 11 (arm)
	Kernel: Container Host Kernel
	Compiler: gcc 10.2.1

Ubuntu 20.04 ARM SVE
	Kernel: 5.4.0-80-generic
	Compiler: gcc 10.3.0 (Ubuntu 10.3.0-1ubuntu1~20.04)

To view detailed results, visit:
https://lab.dpdk.org/results/dashboard/tarballs/27871/

UNH-IOL DPDK Community Lab

To manage your email subscriptions, visit: 
https://lab.dpdk.org/results/dashboard/preferences/subscriptions/


More information about the test-report mailing list