|SUCCESS| pw136299 [PATCH] [v4] net/mana: use rte_pktmbuf_alloc_bulk

dpdklab at iol.unh.edu dpdklab at iol.unh.edu
Fri Feb 2 06:02:22 CET 2024


Test-Label: iol-compile-amd64-testing
Test-Status: SUCCESS
http://dpdk.org/patch/136299

_Testing PASS_

Submitter: Long Li <longli at linuxonhyperv.com>
Date: Friday, February 02 2024 01:19:21 
DPDK git baseline: Repo:dpdk
  Branch: master
  CommitID:f8ecc0053ca52cb2310a9e1834ea583167a793cd

136299 --> testing pass

Test environment and result as below:

+---------------------+--------------------+----------------------+
|     Environment     | dpdk_meson_compile | dpdk_mingw64_compile |
+=====================+====================+======================+
| FreeBSD 13.2        | PASS               | SKIPPED              |
+---------------------+--------------------+----------------------+
| Windows Server 2019 | PASS               | PASS                 |
+---------------------+--------------------+----------------------+


FreeBSD 13.2
	Kernel: 13.2
	Compiler: clang 11.3.0

Windows Server 2019
	Kernel: 10.0
	Compiler: clang 14.0 and gcc 8.1.0 (MinGW)

To view detailed results, visit:
https://lab.dpdk.org/results/dashboard/patchsets/29027/

UNH-IOL DPDK Community Lab

To manage your email subscriptions, visit: 
https://lab.dpdk.org/results/dashboard/preferences/subscriptions/


More information about the test-report mailing list