|SUCCESS| [GIT MASTER] a4ce111cc89f580b8c4aad51bdb061acbdfde86b
dpdklab at iol.unh.edu
dpdklab at iol.unh.edu
Sun Feb 4 02:50:03 CET 2024
_Testing PASS_
Branch: dpdk
a4ce111cc89f580b8c4aad51bdb061acbdfde86b --> testing pass
Test environment and result as below:
+------------------+--------------------+
| Environment | dpdk_meson_compile |
+==================+====================+
| FreeBSD 13.2 | PASS |
+------------------+--------------------+
| openSUSE Leap 15 | PASS |
+------------------+--------------------+
| Ubuntu 22.04 | PASS |
+------------------+--------------------+
FreeBSD 13.2
Kernel: 13.2
Compiler: clang 11.3.0
openSUSE Leap 15
Kernel: 4.18.0-240.10.1.el8_3.x86_64
Compiler: gcc 7.5.0
Ubuntu 22.04
Kernel: 4.18.0-240.10.1.el8_3.x86_64
Compiler: gcc 11.3.0
To view detailed results, visit:
https://lab.dpdk.org/results/dashboard/tarballs/27898/
UNH-IOL DPDK Community Lab
To manage your email subscriptions, visit:
https://lab.dpdk.org/results/dashboard/preferences/subscriptions/
More information about the test-report
mailing list