|SUCCESS| pw136378-136379 [PATCH] [2/2] rcu: use correct value of ac
dpdklab at iol.unh.edu
dpdklab at iol.unh.edu
Mon Feb 5 07:31:32 CET 2024
Test-Label: iol-compile-amd64-testing
Test-Status: SUCCESS
http://dpdk.org/patch/136379
_Testing PASS_
Submitter: Honnappa Nagarahalli <honnappa.nagarahalli at arm.com>
Date: Monday, February 05 2024 04:59:49
DPDK git baseline: Repo:dpdk
Branch: master
CommitID:a4ce111cc89f580b8c4aad51bdb061acbdfde86b
136378-136379 --> testing pass
Test environment and result as below:
+---------------------+--------------------+----------------------+
| Environment | dpdk_meson_compile | dpdk_mingw64_compile |
+=====================+====================+======================+
| FreeBSD 13.2 | PASS | SKIPPED |
+---------------------+--------------------+----------------------+
| Windows Server 2019 | PASS | PASS |
+---------------------+--------------------+----------------------+
FreeBSD 13.2
Kernel: 13.2
Compiler: clang 11.3.0
Windows Server 2019
Kernel: 10.0
Compiler: clang 14.0 and gcc 8.1.0 (MinGW)
To view detailed results, visit:
https://lab.dpdk.org/results/dashboard/patchsets/29047/
UNH-IOL DPDK Community Lab
To manage your email subscriptions, visit:
https://lab.dpdk.org/results/dashboard/preferences/subscriptions/
More information about the test-report
mailing list