|SUCCESS| pw136382-136387 [PATCH] [v2,7/7] net/hns3: support filter

dpdklab at iol.unh.edu dpdklab at iol.unh.edu
Mon Feb 5 12:55:13 CET 2024


Test-Label: iol-unit-arm64-testing
Test-Status: SUCCESS
http://dpdk.org/patch/136387

_Testing PASS_

Submitter: Jie Hai <haijie1 at huawei.com>
Date: Monday, February 05 2024 10:51:51 
DPDK git baseline: Repo:dpdk
  Branch: master
  CommitID:f8ecc0053ca52cb2310a9e1834ea583167a793cd

136382-136387 --> testing pass

Test environment and result as below:

+--------------------------+----------------+
|       Environment        | dpdk_unit_test |
+==========================+================+
| CentOS Stream 9 (ARM)    | PASS           |
+--------------------------+----------------+
| Debian 11 (Buster) (ARM) | PASS           |
+--------------------------+----------------+
| Fedora 37 (ARM)          | PASS           |
+--------------------------+----------------+


CentOS Stream 9 (ARM)
	Kernel: Container Host Kernel
	Compiler: gcc 11.3.1

Debian 11 (Buster) (ARM)
	Kernel: Container Host Kernel
	Compiler: gcc 10.2.1

Fedora 37 (ARM)
	Kernel: Depends on container host
	Compiler: gcc 12.3.1

To view detailed results, visit:
https://lab.dpdk.org/results/dashboard/patchsets/29049/

UNH-IOL DPDK Community Lab

To manage your email subscriptions, visit: 
https://lab.dpdk.org/results/dashboard/preferences/subscriptions/


More information about the test-report mailing list