|SUCCESS| pw136388-136410 [PATCH] [v9,23/23] drivers: remove use of

dpdklab at iol.unh.edu dpdklab at iol.unh.edu
Mon Feb 5 20:18:13 CET 2024


Test-Label: iol-unit-amd64-testing
Test-Status: SUCCESS
http://dpdk.org/patch/136410

_Testing PASS_

Submitter: Stephen Hemminger <stephen at networkplumber.org>
Date: Monday, February 05 2024 17:43:51 
DPDK git baseline: Repo:dpdk
  Branch: master
  CommitID:a4ce111cc89f580b8c4aad51bdb061acbdfde86b

136388-136410 --> testing pass

Test environment and result as below:

+---------------------+----------------+
|     Environment     | dpdk_unit_test |
+=====================+================+
| Windows Server 2019 | PASS           |
+---------------------+----------------+
| CentOS Stream 8     | PASS           |
+---------------------+----------------+
| CentOS Stream 9     | PASS           |
+---------------------+----------------+


Windows Server 2019
	Kernel: 10.0
	Compiler: clang 14.0 and gcc 8.1.0 (MinGW)

CentOS Stream 8
	Kernel: 4.18.0-240.10.1.el8_3.x86_64
	Compiler: gcc 8.4.1 20200928

CentOS Stream 9
	Kernel: 4.18.0-240.10.1.el8_3.x86_64
	Compiler: gcc 11.3.1 20220421

To view detailed results, visit:
https://lab.dpdk.org/results/dashboard/patchsets/29050/

UNH-IOL DPDK Community Lab

To manage your email subscriptions, visit: 
https://lab.dpdk.org/results/dashboard/preferences/subscriptions/


More information about the test-report mailing list