|SUCCESS| pw136412-136415 [PATCH] [v7,4/4] net/mlx5: add compare ite
dpdklab at iol.unh.edu
dpdklab at iol.unh.edu
Tue Feb 6 12:20:12 CET 2024
Test-Label: iol-compile-amd64-testing
Test-Status: SUCCESS
http://dpdk.org/patch/136415
_Testing PASS_
Submitter: Suanming Mou <suanmingm at nvidia.com>
Date: Tuesday, February 06 2024 02:06:25
DPDK git baseline: Repo:dpdk
Branch: master
CommitID:f8ecc0053ca52cb2310a9e1834ea583167a793cd
136412-136415 --> testing pass
Test environment and result as below:
+---------------------+--------------------+----------------------+
| Environment | dpdk_meson_compile | dpdk_mingw64_compile |
+=====================+====================+======================+
| Windows Server 2022 | PASS | SKIPPED |
+---------------------+--------------------+----------------------+
| Windows Server 2019 | PASS | PASS |
+---------------------+--------------------+----------------------+
| FreeBSD 13.2 | PASS | SKIPPED |
+---------------------+--------------------+----------------------+
Windows Server 2022
Kernel: OS Build 20348.2031
Compiler: MSVC VS-Preview
Windows Server 2019
Kernel: 10.0
Compiler: clang 14.0 and gcc 8.1.0 (MinGW)
FreeBSD 13.2
Kernel: 13.2
Compiler: clang 11.3.0
To view detailed results, visit:
https://lab.dpdk.org/results/dashboard/patchsets/29052/
UNH-IOL DPDK Community Lab
To manage your email subscriptions, visit:
https://lab.dpdk.org/results/dashboard/preferences/subscriptions/
More information about the test-report
mailing list