|SUCCESS| pw136412-136415 [PATCH] [v7,4/4] net/mlx5: add compare ite

dpdklab at iol.unh.edu dpdklab at iol.unh.edu
Tue Feb 6 12:59:31 CET 2024


Test-Label: iol-unit-arm64-testing
Test-Status: SUCCESS
http://dpdk.org/patch/136415

_Testing PASS_

Submitter: Suanming Mou <suanmingm at nvidia.com>
Date: Tuesday, February 06 2024 02:06:25 
DPDK git baseline: Repo:dpdk
  Branch: master
  CommitID:f8ecc0053ca52cb2310a9e1834ea583167a793cd

136412-136415 --> testing pass

Test environment and result as below:

+--------------------------+----------------+--------------+
|       Environment        | dpdk_unit_test | lpm_autotest |
+==========================+================+==============+
| Debian 11 (Buster) (ARM) | PASS           | SKIPPED      |
+--------------------------+----------------+--------------+
| CentOS Stream 9 (ARM)    | PASS           | SKIPPED      |
+--------------------------+----------------+--------------+
| Fedora 38 (ARM)          | PASS           | SKIPPED      |
+--------------------------+----------------+--------------+
| Ubuntu 20.04 (ARM)       | PASS           | SKIPPED      |
+--------------------------+----------------+--------------+
| Ubuntu 20.04 ARM SVE     | SKIPPED        | PASS         |
+--------------------------+----------------+--------------+


Debian 11 (Buster) (ARM)
	Kernel: Container Host Kernel
	Compiler: gcc 10.2.1

CentOS Stream 9 (ARM)
	Kernel: Container Host Kernel
	Compiler: gcc 11.3.1

Fedora 38 (ARM)
	Kernel: Depends on container host
	Compiler: gcc 13.1.1

Ubuntu 20.04 (ARM)
	Kernel: Container Host Kernel
	Compiler: gcc 9.4.0

Ubuntu 20.04 ARM SVE
	Kernel: 5.4.0-80-generic
	Compiler: gcc 10.3.0 (Ubuntu 10.3.0-1ubuntu1~20.04)

To view detailed results, visit:
https://lab.dpdk.org/results/dashboard/patchsets/29052/

UNH-IOL DPDK Community Lab

To manage your email subscriptions, visit: 
https://lab.dpdk.org/results/dashboard/preferences/subscriptions/


More information about the test-report mailing list