|SUCCESS| pw136486 [PATCH] lib/hash,lib/rcu: feature hidden key coun
dpdklab at iol.unh.edu
dpdklab at iol.unh.edu
Wed Feb 7 17:20:16 CET 2024
Test-Label: iol-abi-testing
Test-Status: SUCCESS
http://dpdk.org/patch/136486
_Testing PASS_
Submitter: Abdullah Omer Yamac <aomeryamac at gmail.com>
Date: Wednesday, February 07 2024 15:33:40
DPDK git baseline: Repo:dpdk
Branch: master
CommitID:a4ce111cc89f580b8c4aad51bdb061acbdfde86b
136486 --> testing pass
Test environment and result as below:
+-----------------+----------+
| Environment | abi_test |
+=================+==========+
| Debian Buster | PASS |
+-----------------+----------+
| CentOS Stream 9 | PASS |
+-----------------+----------+
| CentOS Stream 8 | PASS |
+-----------------+----------+
Debian Buster
Kernel: 5.4.0-122-generic
Compiler: gcc 8.3.0-6
CentOS Stream 9
Kernel: 4.18.0-240.10.1.el8_3.x86_64
Compiler: gcc 11.3.1 20220421
CentOS Stream 8
Kernel: 4.18.0-240.10.1.el8_3.x86_64
Compiler: gcc 8.4.1 20200928
To view detailed results, visit:
https://lab.dpdk.org/results/dashboard/patchsets/29081/
UNH-IOL DPDK Community Lab
To manage your email subscriptions, visit:
https://lab.dpdk.org/results/dashboard/preferences/subscriptions/
More information about the test-report
mailing list