|SUCCESS| pw136498 [PATCH] [v3] app/testpmd: command to get descript

dpdklab at iol.unh.edu dpdklab at iol.unh.edu
Wed Feb 7 18:47:02 CET 2024


Test-Label: iol-abi-testing
Test-Status: SUCCESS
http://dpdk.org/patch/136498

_Testing PASS_

Submitter: Satha Koteswara Rao Kottidi <skoteshwar at marvell.com>
Date: Wednesday, February 07 2024 17:04:59 
DPDK git baseline: Repo:dpdk
  Branch: master
  CommitID:cf027b7c76a125aa2a040488cc60f9c4356c0166

136498 --> testing pass

Test environment and result as below:

+------------------+----------+
|   Environment    | abi_test |
+==================+==========+
| RHEL8            | PASS     |
+------------------+----------+
| CentOS Stream 9  | PASS     |
+------------------+----------+
| openSUSE Leap 15 | PASS     |
+------------------+----------+


RHEL8
	Kernel: 4.18.0-240.10.1.el8_3.x86_64
	Compiler: gcc 8.3.1 20191121 (Red Hat 8.3.1-5)

CentOS Stream 9
	Kernel: 4.18.0-240.10.1.el8_3.x86_64
	Compiler: gcc 11.3.1 20220421

openSUSE Leap 15
	Kernel: 4.18.0-240.10.1.el8_3.x86_64
	Compiler: gcc 7.5.0

To view detailed results, visit:
https://lab.dpdk.org/results/dashboard/patchsets/29086/

UNH-IOL DPDK Community Lab

To manage your email subscriptions, visit: 
https://lab.dpdk.org/results/dashboard/preferences/subscriptions/


More information about the test-report mailing list