|SUCCESS| pw136495-136496 [PATCH] [v4,2/2] net/mlx5: add support to
dpdklab at iol.unh.edu
dpdklab at iol.unh.edu
Wed Feb 7 19:31:08 CET 2024
Test-Label: iol-compile-amd64-testing
Test-Status: SUCCESS
http://dpdk.org/patch/136496
_Testing PASS_
Submitter: Michael Baum <michaelba at nvidia.com>
Date: Wednesday, February 07 2024 16:14:14
DPDK git baseline: Repo:dpdk
Branch: master
CommitID:b9e20153ea808f12d89090655096c78b1918fc0e
136495-136496 --> testing pass
Test environment and result as below:
+---------------------+--------------------+
| Environment | dpdk_meson_compile |
+=====================+====================+
| Windows Server 2022 | PASS |
+---------------------+--------------------+
| FreeBSD 13.2 | PASS |
+---------------------+--------------------+
| CentOS Stream 9 | PASS |
+---------------------+--------------------+
Windows Server 2022
Kernel: OS Build 20348.2031
Compiler: MSVC VS-Preview
FreeBSD 13.2
Kernel: 13.2
Compiler: clang 11.3.0
CentOS Stream 9
Kernel: 4.18.0-240.10.1.el8_3.x86_64
Compiler: gcc 11.3.1 20220421
To view detailed results, visit:
https://lab.dpdk.org/results/dashboard/patchsets/29084/
UNH-IOL DPDK Community Lab
To manage your email subscriptions, visit:
https://lab.dpdk.org/results/dashboard/preferences/subscriptions/
More information about the test-report
mailing list