|SUCCESS| pw136533 [PATCH] [v4] doc: update guideline for fix commit

dpdklab at iol.unh.edu dpdklab at iol.unh.edu
Thu Feb 8 12:44:40 CET 2024


Test-Label: iol-unit-arm64-testing
Test-Status: SUCCESS
http://dpdk.org/patch/136533

_Testing PASS_

Submitter: Sivaramakrishnan Venkat <venkatx.sivaramakrishnan at intel.com>
Date: Thursday, February 08 2024 10:51:13 
DPDK git baseline: Repo:dpdk
  Branch: master
  CommitID:a4ce111cc89f580b8c4aad51bdb061acbdfde86b

136533 --> testing pass

Test environment and result as below:

+--------------------------+----------------+------------------------------+
|       Environment        | dpdk_unit_test | cryptodev_sw_snow3g_autotest |
+==========================+================+==============================+
| Debian 11 (Buster) (ARM) | PASS           | SKIPPED                      |
+--------------------------+----------------+------------------------------+
| CentOS Stream 9 (ARM)    | PASS           | SKIPPED                      |
+--------------------------+----------------+------------------------------+
| Fedora 37 (ARM)          | PASS           | SKIPPED                      |
+--------------------------+----------------+------------------------------+
| Fedora 38 (ARM)          | PASS           | SKIPPED                      |
+--------------------------+----------------+------------------------------+
| Debian 11 (arm)          | SKIPPED        | PASS                         |
+--------------------------+----------------+------------------------------+


Debian 11 (Buster) (ARM)
	Kernel: Container Host Kernel
	Compiler: gcc 10.2.1

CentOS Stream 9 (ARM)
	Kernel: Container Host Kernel
	Compiler: gcc 11.3.1

Fedora 37 (ARM)
	Kernel: Depends on container host
	Compiler: gcc 12.3.1

Fedora 38 (ARM)
	Kernel: Depends on container host
	Compiler: gcc 13.1.1

Debian 11 (arm)
	Kernel: Container Host Kernel
	Compiler: gcc 10.2.1

To view detailed results, visit:
https://lab.dpdk.org/results/dashboard/patchsets/29093/

UNH-IOL DPDK Community Lab

To manage your email subscriptions, visit: 
https://lab.dpdk.org/results/dashboard/preferences/subscriptions/


More information about the test-report mailing list