|SUCCESS| pw136569 [PATCH] [v2] ethdev: add support for RSS based on

dpdklab at iol.unh.edu dpdklab at iol.unh.edu
Fri Feb 9 00:26:48 CET 2024


Test-Label: iol-unit-amd64-testing
Test-Status: SUCCESS
http://dpdk.org/patch/136569

_Testing PASS_

Submitter: Ajit Khaparde <ajit.khaparde at broadcom.com>
Date: Thursday, February 08 2024 22:06:00 
DPDK git baseline: Repo:dpdk
  Branch: master
  CommitID:6e4dc4ffef11af54fd21faf1a258d8566dc4fcee

136569 --> testing pass

Test environment and result as below:

+---------------------+----------------+
|     Environment     | dpdk_unit_test |
+=====================+================+
| CentOS Stream 9     | PASS           |
+---------------------+----------------+
| openSUSE Leap 15    | PASS           |
+---------------------+----------------+
| Debian Bullseye     | PASS           |
+---------------------+----------------+
| Fedora 38           | PASS           |
+---------------------+----------------+
| Debian Buster       | PASS           |
+---------------------+----------------+
| CentOS Stream 8     | PASS           |
+---------------------+----------------+
| Windows Server 2019 | PASS           |
+---------------------+----------------+
| RHEL8               | PASS           |
+---------------------+----------------+


CentOS Stream 9
	Kernel: 4.18.0-240.10.1.el8_3.x86_64
	Compiler: gcc 11.3.1 20220421

openSUSE Leap 15
	Kernel: 4.18.0-240.10.1.el8_3.x86_64
	Compiler: gcc 7.5.0

Debian Bullseye
	Kernel: 5.4.0-122-generic
	Compiler: gcc 10.2.1-6

Fedora 38
	Kernel: Depends on container host
	Compiler: gcc 13.1.1

Debian Buster
	Kernel: 5.4.0-122-generic
	Compiler: gcc 8.3.0-6

CentOS Stream 8
	Kernel: 4.18.0-240.10.1.el8_3.x86_64
	Compiler: gcc 8.4.1 20200928

Windows Server 2019
	Kernel: 10.0
	Compiler: clang 14.0 and gcc 8.1.0 (MinGW)

RHEL8
	Kernel: 4.18.0-240.10.1.el8_3.x86_64
	Compiler: gcc 8.3.1 20191121 (Red Hat 8.3.1-5)

To view detailed results, visit:
https://lab.dpdk.org/results/dashboard/patchsets/29102/

UNH-IOL DPDK Community Lab

To manage your email subscriptions, visit: 
https://lab.dpdk.org/results/dashboard/preferences/subscriptions/


More information about the test-report mailing list