|SUCCESS| pw136571-136572 [PATCH] [v2,2/2] net/mana: properly deal w
dpdklab at iol.unh.edu
dpdklab at iol.unh.edu
Fri Feb 9 01:45:10 CET 2024
Test-Label: iol-compile-amd64-testing
Test-Status: SUCCESS
http://dpdk.org/patch/136572
_Testing PASS_
Submitter: Long Li <longli at linuxonhyperv.com>
Date: Friday, February 09 2024 00:05:04
DPDK git baseline: Repo:dpdk
Branch: master
CommitID:86e09318b9be354222de6407594caad182e21a8e
136571-136572 --> testing pass
Test environment and result as below:
+---------------------+--------------------+
| Environment | dpdk_meson_compile |
+=====================+====================+
| Windows Server 2022 | PASS |
+---------------------+--------------------+
| FreeBSD 13.2 | PASS |
+---------------------+--------------------+
| Debian Buster | PASS |
+---------------------+--------------------+
| CentOS Stream 8 | PASS |
+---------------------+--------------------+
| CentOS Stream 9 | PASS |
+---------------------+--------------------+
| Fedora 37 | PASS |
+---------------------+--------------------+
| Fedora 38 | PASS |
+---------------------+--------------------+
| Debian Bullseye | PASS |
+---------------------+--------------------+
Windows Server 2022
Kernel: OS Build 20348.2031
Compiler: MSVC VS-Preview
FreeBSD 13.2
Kernel: 13.2
Compiler: clang 11.3.0
Debian Buster
Kernel: 5.4.0-122-generic
Compiler: gcc 8.3.0-6
CentOS Stream 8
Kernel: 4.18.0-240.10.1.el8_3.x86_64
Compiler: gcc 8.4.1 20200928
CentOS Stream 9
Kernel: 4.18.0-240.10.1.el8_3.x86_64
Compiler: gcc 11.3.1 20220421
Fedora 37
Kernel: Depends on container host system
Compiler: gcc 12.3.1
Fedora 38
Kernel: Depends on container host
Compiler: gcc 13.1.1
Debian Bullseye
Kernel: 5.4.0-122-generic
Compiler: gcc 10.2.1-6
To view detailed results, visit:
https://lab.dpdk.org/results/dashboard/patchsets/29104/
UNH-IOL DPDK Community Lab
To manage your email subscriptions, visit:
https://lab.dpdk.org/results/dashboard/preferences/subscriptions/
More information about the test-report
mailing list