|SUCCESS| pw136574 [PATCH] [v4] net/netvsc: fix parsing of VLAN meta

dpdklab at iol.unh.edu dpdklab at iol.unh.edu
Fri Feb 9 17:29:30 CET 2024


Test-Label: iol-unit-arm64-testing
Test-Status: SUCCESS
http://dpdk.org/patch/136574

_Testing PASS_

Submitter: Alan Elder <alan.elder at microsoft.com>
Date: Friday, February 09 2024 15:50:51 
DPDK git baseline: Repo:dpdk
  Branch: master
  CommitID:ee647455f04c02ee98f75b6c690dba8cc1027e09

136574 --> testing pass

Test environment and result as below:

+--------------------------+----------------+---------------------------+
|       Environment        | dpdk_unit_test | cryptodev_sw_zuc_autotest |
+==========================+================+===========================+
| Debian 11 (Buster) (ARM) | PASS           | SKIPPED                   |
+--------------------------+----------------+---------------------------+
| CentOS Stream 9 (ARM)    | PASS           | SKIPPED                   |
+--------------------------+----------------+---------------------------+
| Fedora 37 (ARM)          | PASS           | SKIPPED                   |
+--------------------------+----------------+---------------------------+
| Debian 11 (arm)          | SKIPPED        | PASS                      |
+--------------------------+----------------+---------------------------+


Debian 11 (Buster) (ARM)
	Kernel: Container Host Kernel
	Compiler: gcc 10.2.1

CentOS Stream 9 (ARM)
	Kernel: Container Host Kernel
	Compiler: gcc 11.3.1

Fedora 37 (ARM)
	Kernel: Depends on container host
	Compiler: gcc 12.3.1

Debian 11 (arm)
	Kernel: Container Host Kernel
	Compiler: gcc 10.2.1

To view detailed results, visit:
https://lab.dpdk.org/results/dashboard/patchsets/29106/

UNH-IOL DPDK Community Lab

To manage your email subscriptions, visit: 
https://lab.dpdk.org/results/dashboard/preferences/subscriptions/


More information about the test-report mailing list