|SUCCESS| pw136592-136598 [PATCH] [v2,7/7] compress/nitrox: add stat

dpdklab at iol.unh.edu dpdklab at iol.unh.edu
Mon Feb 12 15:36:37 CET 2024


Test-Label: iol-unit-arm64-testing
Test-Status: SUCCESS
http://dpdk.org/patch/136598

_Testing PASS_

Submitter: Nagadheeraj Rottela <rnagadheeraj at marvell.com>
Date: Monday, February 12 2024 13:47:43 
DPDK git baseline: Repo:dpdk
  Branch: master
  CommitID:2b551097b3443ebf662e4d140600a4c9b108e73c

136592-136598 --> testing pass

Test environment and result as below:

+-----------------------+---------------------------+----------------+------------------------------+
|      Environment      | cryptodev_sw_zuc_autotest | dpdk_unit_test | cryptodev_sw_snow3g_autotest |
+=======================+===========================+================+==============================+
| Debian 11 (arm)       | PASS                      | SKIPPED        | PASS                         |
+-----------------------+---------------------------+----------------+------------------------------+
| CentOS Stream 9 (ARM) | SKIPPED                   | PASS           | SKIPPED                      |
+-----------------------+---------------------------+----------------+------------------------------+
| Fedora 38 (ARM)       | SKIPPED                   | PASS           | SKIPPED                      |
+-----------------------+---------------------------+----------------+------------------------------+
| Fedora 37 (ARM)       | SKIPPED                   | PASS           | SKIPPED                      |
+-----------------------+---------------------------+----------------+------------------------------+


Debian 11 (arm)
	Kernel: Container Host Kernel
	Compiler: gcc 10.2.1

CentOS Stream 9 (ARM)
	Kernel: Container Host Kernel
	Compiler: gcc 11.3.1

Fedora 38 (ARM)
	Kernel: Depends on container host
	Compiler: gcc 13.1.1

Fedora 37 (ARM)
	Kernel: Depends on container host
	Compiler: gcc 12.3.1

To view detailed results, visit:
https://lab.dpdk.org/results/dashboard/patchsets/29118/

UNH-IOL DPDK Community Lab

To manage your email subscriptions, visit: 
https://lab.dpdk.org/results/dashboard/preferences/subscriptions/


More information about the test-report mailing list