|SUCCESS| pw136602 [PATCH] [v2] eal: provide macro to allocate and n
dpdklab at iol.unh.edu
dpdklab at iol.unh.edu
Mon Feb 12 22:45:39 CET 2024
Test-Label: iol-compile-amd64-testing
Test-Status: SUCCESS
http://dpdk.org/patch/136602
_Testing PASS_
Submitter: Tyler Retzlaff <roretzla at linux.microsoft.com>
Date: Monday, February 12 2024 20:51:46
DPDK git baseline: Repo:dpdk
Branch: master
CommitID:39fbd379aa448fda098575f6052dfcdf1dc8e23b
136602 --> testing pass
Test environment and result as below:
+---------------------+--------------------+----------------------+
| Environment | dpdk_meson_compile | dpdk_mingw64_compile |
+=====================+====================+======================+
| Windows Server 2022 | PASS | SKIPPED |
+---------------------+--------------------+----------------------+
| Windows Server 2019 | PASS | PASS |
+---------------------+--------------------+----------------------+
| FreeBSD 13.2 | PASS | SKIPPED |
+---------------------+--------------------+----------------------+
| openSUSE Leap 15 | PASS | SKIPPED |
+---------------------+--------------------+----------------------+
| Debian Buster | PASS | SKIPPED |
+---------------------+--------------------+----------------------+
Windows Server 2022
Kernel: OS Build 20348.2031
Compiler: MSVC VS-Preview
Windows Server 2019
Kernel: 10.0
Compiler: clang 14.0 and gcc 8.1.0 (MinGW)
FreeBSD 13.2
Kernel: 13.2
Compiler: clang 11.3.0
openSUSE Leap 15
Kernel: 4.18.0-240.10.1.el8_3.x86_64
Compiler: gcc 7.5.0
Debian Buster
Kernel: 5.4.0-122-generic
Compiler: gcc 8.3.0-6
To view detailed results, visit:
https://lab.dpdk.org/results/dashboard/patchsets/29121/
UNH-IOL DPDK Community Lab
To manage your email subscriptions, visit:
https://lab.dpdk.org/results/dashboard/preferences/subscriptions/
More information about the test-report
mailing list