|SUCCESS| pw136632 [PATCH] maintainers: add myself to usertools

dpdklab at iol.unh.edu dpdklab at iol.unh.edu
Tue Feb 13 11:33:39 CET 2024


Test-Label: iol-unit-amd64-testing
Test-Status: SUCCESS
http://dpdk.org/patch/136632

_Testing PASS_

Submitter: Robin Jarry <rjarry at redhat.com>
Date: Tuesday, February 13 2024 09:58:46 
DPDK git baseline: Repo:dpdk
  Branch: master
  CommitID:2ea7994ae39ff979b15899ec9eb9c68c944d4b11

136632 --> testing pass

Test environment and result as below:

+-----------------+----------------+
|   Environment   | dpdk_unit_test |
+=================+================+
| Debian Bullseye | PASS           |
+-----------------+----------------+
| CentOS Stream 8 | PASS           |
+-----------------+----------------+
| Debian Buster   | PASS           |
+-----------------+----------------+


Debian Bullseye
	Kernel: 5.4.0-122-generic
	Compiler: gcc 10.2.1-6

CentOS Stream 8
	Kernel: 4.18.0-240.10.1.el8_3.x86_64
	Compiler: gcc 8.4.1 20200928

Debian Buster
	Kernel: 5.4.0-122-generic
	Compiler: gcc 8.3.0-6

To view detailed results, visit:
https://lab.dpdk.org/results/dashboard/patchsets/29126/

UNH-IOL DPDK Community Lab

To manage your email subscriptions, visit: 
https://lab.dpdk.org/results/dashboard/preferences/subscriptions/


More information about the test-report mailing list