|SUCCESS| pw136633 [PATCH] [v2] dts: strip whitespaces from stdout a

dpdklab at iol.unh.edu dpdklab at iol.unh.edu
Tue Feb 13 13:03:38 CET 2024


Test-Label: iol-unit-arm64-testing
Test-Status: SUCCESS
http://dpdk.org/patch/136633

_Testing PASS_

Submitter: Juraj Linkes <juraj.linkes at pantheon.tech>
Date: Tuesday, February 13 2024 11:14:39 
DPDK git baseline: Repo:dpdk
  Branch: master
  CommitID:74fff67a34a33c8e6565cfbcb5618c268eb388c6

136633 --> testing pass

Test environment and result as below:

+-----------------------+------------------------------+----------------+
|      Environment      | cryptodev_sw_snow3g_autotest | dpdk_unit_test |
+=======================+==============================+================+
| Debian 11 (arm)       | PASS                         | SKIPPED        |
+-----------------------+------------------------------+----------------+
| CentOS Stream 9 (ARM) | SKIPPED                      | PASS           |
+-----------------------+------------------------------+----------------+
| Fedora 37 (ARM)       | SKIPPED                      | PASS           |
+-----------------------+------------------------------+----------------+


Debian 11 (arm)
	Kernel: Container Host Kernel
	Compiler: gcc 10.2.1

CentOS Stream 9 (ARM)
	Kernel: Container Host Kernel
	Compiler: gcc 11.3.1

Fedora 37 (ARM)
	Kernel: Depends on container host
	Compiler: gcc 12.3.1

To view detailed results, visit:
https://lab.dpdk.org/results/dashboard/patchsets/29127/

UNH-IOL DPDK Community Lab

To manage your email subscriptions, visit: 
https://lab.dpdk.org/results/dashboard/preferences/subscriptions/


More information about the test-report mailing list