|SUCCESS| pw136634 [PATCH] [RFC] ip_frag: support IPv6 reassembly wi
dpdklab at iol.unh.edu
dpdklab at iol.unh.edu
Tue Feb 13 14:57:58 CET 2024
Test-Label: iol-unit-arm64-testing
Test-Status: SUCCESS
http://dpdk.org/patch/136634
_Testing PASS_
Submitter: Vignesh Purushotham Srinivas <vignesh.purushotham.srinivas at ericsson.com>
Date: Tuesday, February 13 2024 11:47:27
DPDK git baseline: Repo:dpdk
Branch: master
CommitID:74fff67a34a33c8e6565cfbcb5618c268eb388c6
136634 --> testing pass
Test environment and result as below:
+--------------------------+---------------------------+----------------+--------------+
| Environment | cryptodev_sw_zuc_autotest | dpdk_unit_test | lpm_autotest |
+==========================+===========================+================+==============+
| Debian 11 (arm) | PASS | SKIPPED | SKIPPED |
+--------------------------+---------------------------+----------------+--------------+
| Debian 11 (Buster) (ARM) | SKIPPED | PASS | SKIPPED |
+--------------------------+---------------------------+----------------+--------------+
| Fedora 37 (ARM) | SKIPPED | PASS | SKIPPED |
+--------------------------+---------------------------+----------------+--------------+
| Ubuntu 20.04 ARM SVE | SKIPPED | SKIPPED | PASS |
+--------------------------+---------------------------+----------------+--------------+
Debian 11 (arm)
Kernel: Container Host Kernel
Compiler: gcc 10.2.1
Debian 11 (Buster) (ARM)
Kernel: Container Host Kernel
Compiler: gcc 10.2.1
Fedora 37 (ARM)
Kernel: Depends on container host
Compiler: gcc 12.3.1
Ubuntu 20.04 ARM SVE
Kernel: 5.4.0-80-generic
Compiler: gcc 10.3.0 (Ubuntu 10.3.0-1ubuntu1~20.04)
To view detailed results, visit:
https://lab.dpdk.org/results/dashboard/patchsets/29128/
UNH-IOL DPDK Community Lab
To manage your email subscriptions, visit:
https://lab.dpdk.org/results/dashboard/preferences/subscriptions/
More information about the test-report
mailing list