|SUCCESS| pw136649-136648 [PATCH] [3/3] examples/pipeline: add examp

dpdklab at iol.unh.edu dpdklab at iol.unh.edu
Tue Feb 13 18:34:36 CET 2024


Test-Label: iol-abi-testing
Test-Status: SUCCESS
http://dpdk.org/patch/136648

_Testing PASS_

Submitter: Dumitrescu, Cristian <cristian.dumitrescu at intel.com>
Date: Tuesday, February 13 2024 16:57:37 
DPDK git baseline: Repo:dpdk
  Branch: master
  CommitID:31d72ff4dc7c057366153e9918ac92bf9123a3bc

136649-136648 --> testing pass

Test environment and result as below:

+-----------------+----------+
|   Environment   | abi_test |
+=================+==========+
| Ubuntu 22.04    | PASS     |
+-----------------+----------+
| CentOS Stream 8 | PASS     |
+-----------------+----------+
| RHEL8           | PASS     |
+-----------------+----------+


Ubuntu 22.04
	Kernel: 4.18.0-240.10.1.el8_3.x86_64
	Compiler: gcc 11.3.0

CentOS Stream 8
	Kernel: 4.18.0-240.10.1.el8_3.x86_64
	Compiler: gcc 8.4.1 20200928

RHEL8
	Kernel: 4.18.0-240.10.1.el8_3.x86_64
	Compiler: gcc 8.3.1 20191121 (Red Hat 8.3.1-5)

To view detailed results, visit:
https://lab.dpdk.org/results/dashboard/patchsets/29135/

UNH-IOL DPDK Community Lab

To manage your email subscriptions, visit: 
https://lab.dpdk.org/results/dashboard/preferences/subscriptions/


More information about the test-report mailing list