|SUCCESS| pw136652 [PATCH] [1/1] maintainers: update RISC-V maintain

dpdklab at iol.unh.edu dpdklab at iol.unh.edu
Wed Feb 14 02:07:19 CET 2024


Test-Label: iol-unit-arm64-testing
Test-Status: SUCCESS
http://dpdk.org/patch/136652

_Testing PASS_

Submitter: Stanislaw Kardach <kda at semihalf.com>
Date: Tuesday, February 13 2024 18:14:07 
DPDK git baseline: Repo:dpdk
  Branch: master
  CommitID:31d72ff4dc7c057366153e9918ac92bf9123a3bc

136652 --> testing pass

Test environment and result as below:

+--------------------------+----------------+
|       Environment        | dpdk_unit_test |
+==========================+================+
| CentOS Stream 9 (ARM)    | PASS           |
+--------------------------+----------------+
| Debian 11 (Buster) (ARM) | PASS           |
+--------------------------+----------------+
| Fedora 38 (ARM)          | PASS           |
+--------------------------+----------------+


CentOS Stream 9 (ARM)
	Kernel: Container Host Kernel
	Compiler: gcc 11.3.1

Debian 11 (Buster) (ARM)
	Kernel: Container Host Kernel
	Compiler: gcc 10.2.1

Fedora 38 (ARM)
	Kernel: Depends on container host
	Compiler: gcc 13.1.1

To view detailed results, visit:
https://lab.dpdk.org/results/dashboard/patchsets/29138/

UNH-IOL DPDK Community Lab

To manage your email subscriptions, visit: 
https://lab.dpdk.org/results/dashboard/preferences/subscriptions/


More information about the test-report mailing list