|SUCCESS| pw136651 [PATCH] [V2] examples/pipeline: fix include path
dpdklab at iol.unh.edu
dpdklab at iol.unh.edu
Wed Feb 14 02:57:30 CET 2024
Test-Label: iol-compile-amd64-testing
Test-Status: SUCCESS
http://dpdk.org/patch/136651
_Testing PASS_
Submitter: Cristian Dumitrescu <cristian.dumitrescu at intel.com>
Date: Tuesday, February 13 2024 17:38:09
DPDK git baseline: Repo:dpdk
Branch: master
CommitID:4cf59bbc9edf5419a9f2644a132c9a96c071a4c8
136651 --> testing pass
Test environment and result as below:
+---------------------+--------------------+
| Environment | dpdk_meson_compile |
+=====================+====================+
| Windows Server 2022 | PASS |
+---------------------+--------------------+
| FreeBSD 13.2 | PASS |
+---------------------+--------------------+
| Windows Server 2019 | PASS |
+---------------------+--------------------+
Windows Server 2022
Kernel: OS Build 20348.2031
Compiler: MSVC VS-Preview
FreeBSD 13.2
Kernel: 13.2
Compiler: clang 11.3.0
Windows Server 2019
Kernel: 10.0
Compiler: clang 14.0 and gcc 8.1.0 (MinGW)
To view detailed results, visit:
https://lab.dpdk.org/results/dashboard/patchsets/29137/
UNH-IOL DPDK Community Lab
To manage your email subscriptions, visit:
https://lab.dpdk.org/results/dashboard/preferences/subscriptions/
More information about the test-report
mailing list