|SUCCESS| pw136678 [PATCH] [V2] net/memif: fix extra mbuf refcnt upd

dpdklab at iol.unh.edu dpdklab at iol.unh.edu
Wed Feb 14 05:33:19 CET 2024


Test-Label: iol-unit-amd64-testing
Test-Status: SUCCESS
http://dpdk.org/patch/136678

_Testing PASS_

Submitter: Wathsala Vithanage <wathsala.vithanage at arm.com>
Date: Wednesday, February 14 2024 00:36:16 
DPDK git baseline: Repo:dpdk
  Branch: master
  CommitID:4cf59bbc9edf5419a9f2644a132c9a96c071a4c8

136678 --> testing pass

Test environment and result as below:

+------------------+----------------+
|   Environment    | dpdk_unit_test |
+==================+================+
| Debian Buster    | PASS           |
+------------------+----------------+
| CentOS Stream 8  | PASS           |
+------------------+----------------+
| Fedora 38        | PASS           |
+------------------+----------------+
| CentOS Stream 9  | PASS           |
+------------------+----------------+
| openSUSE Leap 15 | PASS           |
+------------------+----------------+


Debian Buster
	Kernel: 5.4.0-122-generic
	Compiler: gcc 8.3.0-6

CentOS Stream 8
	Kernel: 4.18.0-240.10.1.el8_3.x86_64
	Compiler: gcc 8.4.1 20200928

Fedora 38
	Kernel: Depends on container host
	Compiler: clang 16.0.3

CentOS Stream 9
	Kernel: 4.18.0-240.10.1.el8_3.x86_64
	Compiler: gcc 11.3.1 20220421

openSUSE Leap 15
	Kernel: 4.18.0-240.10.1.el8_3.x86_64
	Compiler: gcc 7.5.0

To view detailed results, visit:
https://lab.dpdk.org/results/dashboard/patchsets/29142/

UNH-IOL DPDK Community Lab

To manage your email subscriptions, visit: 
https://lab.dpdk.org/results/dashboard/preferences/subscriptions/


More information about the test-report mailing list