|SUCCESS| pw136693-136703 [PATCH] [v2,14/14] eal: redefine macro to
dpdklab at iol.unh.edu
dpdklab at iol.unh.edu
Wed Feb 14 06:32:04 CET 2024
Test-Label: iol-unit-arm64-testing
Test-Status: SUCCESS
http://dpdk.org/patch/136703
_Testing PASS_
Submitter: Tyler Retzlaff <roretzla at linux.microsoft.com>
Date: Wednesday, February 14 2024 04:17:50
DPDK git baseline: Repo:dpdk
Branch: master
CommitID:31d72ff4dc7c057366153e9918ac92bf9123a3bc
136693-136703 --> testing pass
Test environment and result as below:
+--------------------------+--------------+------------------------------+---------------------------+----------------+
| Environment | lpm_autotest | cryptodev_sw_snow3g_autotest | cryptodev_sw_zuc_autotest | dpdk_unit_test |
+==========================+==============+==============================+===========================+================+
| Ubuntu 20.04 ARM SVE | PASS | SKIPPED | SKIPPED | SKIPPED |
+--------------------------+--------------+------------------------------+---------------------------+----------------+
| Debian 11 (arm) | SKIPPED | PASS | PASS | SKIPPED |
+--------------------------+--------------+------------------------------+---------------------------+----------------+
| CentOS Stream 9 (ARM) | SKIPPED | SKIPPED | SKIPPED | PASS |
+--------------------------+--------------+------------------------------+---------------------------+----------------+
| Debian 11 (Buster) (ARM) | SKIPPED | SKIPPED | SKIPPED | PASS |
+--------------------------+--------------+------------------------------+---------------------------+----------------+
Ubuntu 20.04 ARM SVE
Kernel: 5.4.0-80-generic
Compiler: gcc 10.3.0 (Ubuntu 10.3.0-1ubuntu1~20.04)
Debian 11 (arm)
Kernel: Container Host Kernel
Compiler: gcc 10.2.1
CentOS Stream 9 (ARM)
Kernel: Container Host Kernel
Compiler: gcc 11.3.1
Debian 11 (Buster) (ARM)
Kernel: Container Host Kernel
Compiler: gcc 10.2.1
To view detailed results, visit:
https://lab.dpdk.org/results/dashboard/patchsets/29144/
UNH-IOL DPDK Community Lab
To manage your email subscriptions, visit:
https://lab.dpdk.org/results/dashboard/preferences/subscriptions/
More information about the test-report
mailing list