|SUCCESS| pw136746-136748 [PATCH] [v5,3/3] net/mlx5/hws: add compare
dpdklab at iol.unh.edu
dpdklab at iol.unh.edu
Wed Feb 14 14:47:05 CET 2024
Test-Label: iol-abi-testing
Test-Status: SUCCESS
http://dpdk.org/patch/136748
_Testing PASS_
Submitter: Michael Baum <michaelba at nvidia.com>
Date: Wednesday, February 14 2024 07:30:15
DPDK git baseline: Repo:dpdk
Branch: master
CommitID:32bedd138f36b073341bbde2a5186727d1bc05d6
136746-136748 --> testing pass
Test environment and result as below:
+-----------------+----------+
| Environment | abi_test |
+=================+==========+
| Debian Buster | PASS |
+-----------------+----------+
| CentOS Stream 9 | PASS |
+-----------------+----------+
| Fedora 37 | PASS |
+-----------------+----------+
Debian Buster
Kernel: 5.4.0-122-generic
Compiler: gcc 8.3.0-6
CentOS Stream 9
Kernel: 4.18.0-240.10.1.el8_3.x86_64
Compiler: gcc 11.3.1 20220421
Fedora 37
Kernel: Depends on container host system
Compiler: gcc 12.3.1
To view detailed results, visit:
https://lab.dpdk.org/results/dashboard/patchsets/29146/
UNH-IOL DPDK Community Lab
To manage your email subscriptions, visit:
https://lab.dpdk.org/results/dashboard/preferences/subscriptions/
More information about the test-report
mailing list