|SUCCESS| pw136801-136816 [PATCH] [v4,18/18] examples/dma: stop usin

dpdklab at iol.unh.edu dpdklab at iol.unh.edu
Thu Feb 15 13:04:55 CET 2024


Test-Label: iol-unit-arm64-testing
Test-Status: SUCCESS
http://dpdk.org/patch/136816

_Testing PASS_

Submitter: Tyler Retzlaff <roretzla at linux.microsoft.com>
Date: Thursday, February 15 2024 06:21:20 
DPDK git baseline: Repo:dpdk
  Branch: master
  CommitID:62b906cf06ba86adf1f05c16969a9adcc49cf8bc

136801-136816 --> testing pass

Test environment and result as below:

+-----------------------+--------------+---------------------------+------------------------------+----------------+
|      Environment      | lpm_autotest | cryptodev_sw_zuc_autotest | cryptodev_sw_snow3g_autotest | dpdk_unit_test |
+=======================+==============+===========================+==============================+================+
| Ubuntu 20.04 ARM SVE  | PASS         | SKIPPED                   | SKIPPED                      | SKIPPED        |
+-----------------------+--------------+---------------------------+------------------------------+----------------+
| Debian 11 (arm)       | SKIPPED      | PASS                      | PASS                         | SKIPPED        |
+-----------------------+--------------+---------------------------+------------------------------+----------------+
| Fedora 38 (ARM Clang) | SKIPPED      | SKIPPED                   | SKIPPED                      | PASS           |
+-----------------------+--------------+---------------------------+------------------------------+----------------+


Ubuntu 20.04 ARM SVE
	Kernel: 5.4.0-80-generic
	Compiler: gcc 10.3.0 (Ubuntu 10.3.0-1ubuntu1~20.04)

Debian 11 (arm)
	Kernel: Container Host Kernel
	Compiler: gcc 10.2.1

Fedora 38 (ARM Clang)
	Kernel: Depends on container host
	Compiler: clang 16.0.3

To view detailed results, visit:
https://lab.dpdk.org/results/dashboard/patchsets/29156/

UNH-IOL DPDK Community Lab

To manage your email subscriptions, visit: 
https://lab.dpdk.org/results/dashboard/preferences/subscriptions/


More information about the test-report mailing list