|SUCCESS| pw136833 [PATCH] net/ixgbevf: fix RSS init for x550 nics
dpdklab at iol.unh.edu
dpdklab at iol.unh.edu
Thu Feb 15 20:32:39 CET 2024
Test-Label: iol-compile-amd64-testing
Test-Status: SUCCESS
http://dpdk.org/patch/136833
_Testing PASS_
Submitter: None <edwin.brossette at 6wind.com>
Date: Thursday, February 15 2024 13:31:45
DPDK git baseline: Repo:dpdk
Branch: master
CommitID:4e7732d6c4c64514dc26c3cc0203d19851b5f5aa
136833 --> testing pass
Test environment and result as below:
+---------------------+--------------------+
| Environment | dpdk_meson_compile |
+=====================+====================+
| Windows Server 2022 | PASS |
+---------------------+--------------------+
| FreeBSD 13.2 | PASS |
+---------------------+--------------------+
| Windows Server 2019 | PASS |
+---------------------+--------------------+
Windows Server 2022
Kernel: OS Build 20348.2031
Compiler: MSVC VS-Preview
FreeBSD 13.2
Kernel: 13.2
Compiler: clang 11.3.0
Windows Server 2019
Kernel: 10.0
Compiler: clang 14.0 and gcc 8.1.0 (MinGW)
To view detailed results, visit:
https://lab.dpdk.org/results/dashboard/patchsets/29161/
UNH-IOL DPDK Community Lab
To manage your email subscriptions, visit:
https://lab.dpdk.org/results/dashboard/preferences/subscriptions/
More information about the test-report
mailing list