|SUCCESS| pw136836 [PATCH] [V3] examples/pipeline: simplify the L2 f
dpdklab at iol.unh.edu
dpdklab at iol.unh.edu
Thu Feb 15 22:12:07 CET 2024
Test-Label: iol-unit-arm64-testing
Test-Status: SUCCESS
http://dpdk.org/patch/136836
_Testing PASS_
Submitter: Cristian Dumitrescu <cristian.dumitrescu at intel.com>
Date: Thursday, February 15 2024 19:26:01
DPDK git baseline: Repo:dpdk
Branch: master
CommitID:62b906cf06ba86adf1f05c16969a9adcc49cf8bc
136836 --> testing pass
Test environment and result as below:
+--------------------------+----------------+
| Environment | dpdk_unit_test |
+==========================+================+
| Fedora 37 (ARM) | PASS |
+--------------------------+----------------+
| Fedora 38 (ARM) | PASS |
+--------------------------+----------------+
| Debian 11 (Buster) (ARM) | PASS |
+--------------------------+----------------+
Fedora 37 (ARM)
Kernel: Depends on container host
Compiler: gcc 12.3.1
Fedora 38 (ARM)
Kernel: Depends on container host
Compiler: gcc 13.1.1
Debian 11 (Buster) (ARM)
Kernel: Container Host Kernel
Compiler: gcc 10.2.1
To view detailed results, visit:
https://lab.dpdk.org/results/dashboard/patchsets/29164/
UNH-IOL DPDK Community Lab
To manage your email subscriptions, visit:
https://lab.dpdk.org/results/dashboard/preferences/subscriptions/
More information about the test-report
mailing list