|SUCCESS| pw136837 [PATCH] eal: provide rte attribute macro for GCC
dpdklab at iol.unh.edu
dpdklab at iol.unh.edu
Fri Feb 16 00:54:50 CET 2024
Test-Label: iol-unit-arm64-testing
Test-Status: SUCCESS
http://dpdk.org/patch/136837
_Testing PASS_
Submitter: Tyler Retzlaff <roretzla at linux.microsoft.com>
Date: Thursday, February 15 2024 22:20:18
DPDK git baseline: Repo:dpdk
Branch: master
CommitID:62b906cf06ba86adf1f05c16969a9adcc49cf8bc
136837 --> testing pass
Test environment and result as below:
+-----------------------+---------------------------+------------------------------+--------------+----------------+
| Environment | cryptodev_sw_zuc_autotest | cryptodev_sw_snow3g_autotest | lpm_autotest | dpdk_unit_test |
+=======================+===========================+==============================+==============+================+
| Debian 11 (arm) | PASS | PASS | SKIPPED | SKIPPED |
+-----------------------+---------------------------+------------------------------+--------------+----------------+
| Ubuntu 20.04 ARM SVE | SKIPPED | SKIPPED | PASS | SKIPPED |
+-----------------------+---------------------------+------------------------------+--------------+----------------+
| CentOS Stream 9 (ARM) | SKIPPED | SKIPPED | SKIPPED | PASS |
+-----------------------+---------------------------+------------------------------+--------------+----------------+
| Fedora 37 (ARM) | SKIPPED | SKIPPED | SKIPPED | PASS |
+-----------------------+---------------------------+------------------------------+--------------+----------------+
Debian 11 (arm)
Kernel: Container Host Kernel
Compiler: gcc 10.2.1
Ubuntu 20.04 ARM SVE
Kernel: 5.4.0-80-generic
Compiler: gcc 10.3.0 (Ubuntu 10.3.0-1ubuntu1~20.04)
CentOS Stream 9 (ARM)
Kernel: Container Host Kernel
Compiler: gcc 11.3.1
Fedora 37 (ARM)
Kernel: Depends on container host
Compiler: gcc 12.3.1
To view detailed results, visit:
https://lab.dpdk.org/results/dashboard/patchsets/29165/
UNH-IOL DPDK Community Lab
To manage your email subscriptions, visit:
https://lab.dpdk.org/results/dashboard/preferences/subscriptions/
More information about the test-report
mailing list