|SUCCESS| [GIT MASTER] 62b906cf06ba86adf1f05c16969a9adcc49cf8bc

dpdklab at iol.unh.edu dpdklab at iol.unh.edu
Fri Feb 16 02:27:27 CET 2024


_Testing PASS_

Branch: dpdk

62b906cf06ba86adf1f05c16969a9adcc49cf8bc --> testing pass

Test environment and result as below:

+-----------------------+--------------------+
|      Environment      | dpdk_meson_compile |
+=======================+====================+
| Fedora 38 (ARM)       | PASS               |
+-----------------------+--------------------+
| CentOS Stream 9 (ARM) | PASS               |
+-----------------------+--------------------+
| Ubuntu 20.04 ARM SVE  | PASS               |
+-----------------------+--------------------+


Fedora 38 (ARM)
	Kernel: Depends on container host
	Compiler: gcc 13.1.1

CentOS Stream 9 (ARM)
	Kernel: Container Host Kernel
	Compiler: gcc 11.3.1

Ubuntu 20.04 ARM SVE
	Kernel: 5.4.0-80-generic
	Compiler: gcc 10.3.0 (Ubuntu 10.3.0-1ubuntu1~20.04)

To view detailed results, visit:
https://lab.dpdk.org/results/dashboard/tarballs/28026/

UNH-IOL DPDK Community Lab

To manage your email subscriptions, visit: 
https://lab.dpdk.org/results/dashboard/preferences/subscriptions/


More information about the test-report mailing list