|SUCCESS| pw136853-136855 [PATCH] [3/3] net/ionic: add vdev support

dpdklab at iol.unh.edu dpdklab at iol.unh.edu
Fri Feb 16 19:25:25 CET 2024


Test-Label: iol-unit-arm64-testing
Test-Status: SUCCESS
http://dpdk.org/patch/136855

_Testing PASS_

Submitter: Andrew Boyer <Andrew.Boyer at amd.com>
Date: Friday, February 16 2024 17:07:04 
DPDK git baseline: Repo:dpdk
  Branch: master
  CommitID:31d9d436f263a3f4313ad4c029a9905d6be6cbd6

136853-136855 --> testing pass

Test environment and result as below:

+--------------------------+----------------+
|       Environment        | dpdk_unit_test |
+==========================+================+
| CentOS Stream 9 (ARM)    | PASS           |
+--------------------------+----------------+
| Fedora 37 (ARM)          | PASS           |
+--------------------------+----------------+
| Debian 11 (Buster) (ARM) | PASS           |
+--------------------------+----------------+
| Fedora 38 (ARM)          | PASS           |
+--------------------------+----------------+
| Fedora 38 (ARM Clang)    | PASS           |
+--------------------------+----------------+


CentOS Stream 9 (ARM)
	Kernel: Container Host Kernel
	Compiler: gcc 11.3.1

Fedora 37 (ARM)
	Kernel: Depends on container host
	Compiler: gcc 12.3.1

Debian 11 (Buster) (ARM)
	Kernel: Container Host Kernel
	Compiler: gcc 10.2.1

Fedora 38 (ARM)
	Kernel: Depends on container host
	Compiler: gcc 13.1.1

Fedora 38 (ARM Clang)
	Kernel: Depends on container host
	Compiler: clang 16.0.3

To view detailed results, visit:
https://lab.dpdk.org/results/dashboard/patchsets/29174/

UNH-IOL DPDK Community Lab

To manage your email subscriptions, visit: 
https://lab.dpdk.org/results/dashboard/preferences/subscriptions/


More information about the test-report mailing list