|SUCCESS| pw136852 [PATCH] [v2] cryptodev: speed up ops pool create
dpdklab at iol.unh.edu
dpdklab at iol.unh.edu
Fri Feb 16 19:32:00 CET 2024
Test-Label: iol-abi-testing
Test-Status: SUCCESS
http://dpdk.org/patch/136852
_Testing PASS_
Submitter: Andrew Boyer <Andrew.Boyer at amd.com>
Date: Friday, February 16 2024 17:03:34
DPDK git baseline: Repo:dpdk
Branch: master
CommitID:2b551097b3443ebf662e4d140600a4c9b108e73c
136852 --> testing pass
Test environment and result as below:
+-----------------+----------+
| Environment | abi_test |
+=================+==========+
| Fedora 38 | PASS |
+-----------------+----------+
| Debian Bullseye | PASS |
+-----------------+----------+
| CentOS Stream 8 | PASS |
+-----------------+----------+
| CentOS Stream 9 | PASS |
+-----------------+----------+
| Debian Buster | PASS |
+-----------------+----------+
| Fedora 37 | PASS |
+-----------------+----------+
Fedora 38
Kernel: Depends on container host
Compiler: clang 16.0.3
Debian Bullseye
Kernel: 5.4.0-122-generic
Compiler: gcc 10.2.1-6
CentOS Stream 8
Kernel: 4.18.0-240.10.1.el8_3.x86_64
Compiler: gcc 8.4.1 20200928
CentOS Stream 9
Kernel: 4.18.0-240.10.1.el8_3.x86_64
Compiler: gcc 11.3.1 20220421
Debian Buster
Kernel: 5.4.0-122-generic
Compiler: gcc 8.3.0-6
Fedora 37
Kernel: Depends on container host system
Compiler: gcc 12.3.1
To view detailed results, visit:
https://lab.dpdk.org/results/dashboard/patchsets/29173/
UNH-IOL DPDK Community Lab
To manage your email subscriptions, visit:
https://lab.dpdk.org/results/dashboard/preferences/subscriptions/
More information about the test-report
mailing list