|SUCCESS| [GIT MASTER] 93998f3c5f22747e4f2c5e8714fa5cbe6c9d1574

dpdklab at iol.unh.edu dpdklab at iol.unh.edu
Sun Feb 18 02:36:30 CET 2024


_Testing PASS_

Branch: dpdk

93998f3c5f22747e4f2c5e8714fa5cbe6c9d1574 --> testing pass

Test environment and result as below:

+-----------------------+------------------------------+----------------+--------------+
|      Environment      | cryptodev_sw_snow3g_autotest | dpdk_unit_test | lpm_autotest |
+=======================+==============================+================+==============+
| Debian 11 (arm)       | PASS                         | SKIPPED        | SKIPPED      |
+-----------------------+------------------------------+----------------+--------------+
| CentOS Stream 9 (ARM) | SKIPPED                      | PASS           | SKIPPED      |
+-----------------------+------------------------------+----------------+--------------+
| Ubuntu 20.04 ARM SVE  | SKIPPED                      | SKIPPED        | PASS         |
+-----------------------+------------------------------+----------------+--------------+


Debian 11 (arm)
	Kernel: Container Host Kernel
	Compiler: gcc 10.2.1

CentOS Stream 9 (ARM)
	Kernel: Container Host Kernel
	Compiler: gcc 11.3.1

Ubuntu 20.04 ARM SVE
	Kernel: 5.4.0-80-generic
	Compiler: gcc 10.3.0 (Ubuntu 10.3.0-1ubuntu1~20.04)

To view detailed results, visit:
https://lab.dpdk.org/results/dashboard/tarballs/28042/

UNH-IOL DPDK Community Lab

To manage your email subscriptions, visit: 
https://lab.dpdk.org/results/dashboard/preferences/subscriptions/


More information about the test-report mailing list