|SUCCESS| pw136858-136866 [PATCH] [v2,10/10] net/mlx5/hws: typo fix

dpdklab at iol.unh.edu dpdklab at iol.unh.edu
Sun Feb 18 07:36:59 CET 2024


Test-Label: iol-abi-testing
Test-Status: SUCCESS
http://dpdk.org/patch/136866

_Testing PASS_

Submitter: Itamar Gozlan <igozlan at nvidia.com>
Date: Sunday, February 18 2024 05:11:24 
DPDK git baseline: Repo:dpdk
  Branch: master
  CommitID:25e981ab82d28bdc6010f033efc2fdcc35fc2b53

136858-136866 --> testing pass

Test environment and result as below:

+-----------------+----------+
|   Environment   | abi_test |
+=================+==========+
| Fedora 38       | PASS     |
+-----------------+----------+
| CentOS Stream 9 | PASS     |
+-----------------+----------+
| Debian Bullseye | PASS     |
+-----------------+----------+


Fedora 38
	Kernel: Depends on container host
	Compiler: clang 16.0.3

CentOS Stream 9
	Kernel: 4.18.0-240.10.1.el8_3.x86_64
	Compiler: gcc 11.3.1 20220421

Debian Bullseye
	Kernel: 5.4.0-122-generic
	Compiler: gcc 10.2.1-6

To view detailed results, visit:
https://lab.dpdk.org/results/dashboard/patchsets/29176/

UNH-IOL DPDK Community Lab

To manage your email subscriptions, visit: 
https://lab.dpdk.org/results/dashboard/preferences/subscriptions/


More information about the test-report mailing list