|SUCCESS| pw136876-136877 [PATCH] [RFC,v2,5/5] service: keep per-lco
dpdklab at iol.unh.edu
dpdklab at iol.unh.edu
Mon Feb 19 11:40:24 CET 2024
Test-Label: iol-abi-testing
Test-Status: SUCCESS
http://dpdk.org/patch/136877
_Testing PASS_
Submitter: Mattias Ronnblom <mattias.ronnblom at ericsson.com>
Date: Monday, February 19 2024 09:40:36
DPDK git baseline: Repo:dpdk
Branch: master
CommitID:3cb34fb0b0adfeb163b4d0e6d5a232a21bd6f6e0
136876-136877 --> testing pass
Test environment and result as below:
+------------------+----------+
| Environment | abi_test |
+==================+==========+
| Fedora 38 | PASS |
+------------------+----------+
| Debian Buster | PASS |
+------------------+----------+
| openSUSE Leap 15 | PASS |
+------------------+----------+
| Debian Bullseye | PASS |
+------------------+----------+
| Ubuntu 22.04 | PASS |
+------------------+----------+
| CentOS Stream 9 | PASS |
+------------------+----------+
| CentOS Stream 8 | PASS |
+------------------+----------+
| RHEL8 | PASS |
+------------------+----------+
Fedora 38
Kernel: Depends on container host
Compiler: clang 16.0.3
Debian Buster
Kernel: 5.4.0-122-generic
Compiler: gcc 8.3.0-6
openSUSE Leap 15
Kernel: 4.18.0-240.10.1.el8_3.x86_64
Compiler: gcc 7.5.0
Debian Bullseye
Kernel: 5.4.0-122-generic
Compiler: gcc 10.2.1-6
Ubuntu 22.04
Kernel: 4.18.0-240.10.1.el8_3.x86_64
Compiler: gcc 11.3.0
CentOS Stream 9
Kernel: 4.18.0-240.10.1.el8_3.x86_64
Compiler: gcc 11.3.1 20220421
CentOS Stream 8
Kernel: 4.18.0-240.10.1.el8_3.x86_64
Compiler: gcc 8.4.1 20200928
RHEL8
Kernel: 4.18.0-240.10.1.el8_3.x86_64
Compiler: gcc 8.3.1 20191121 (Red Hat 8.3.1-5)
To view detailed results, visit:
https://lab.dpdk.org/results/dashboard/patchsets/29181/
UNH-IOL DPDK Community Lab
To manage your email subscriptions, visit:
https://lab.dpdk.org/results/dashboard/preferences/subscriptions/
More information about the test-report
mailing list