|SUCCESS| pw136871-136872 [PATCH] [v7,2/2] net/netvsc: fix parsing o
dpdklab at iol.unh.edu
dpdklab at iol.unh.edu
Mon Feb 19 12:09:46 CET 2024
Test-Label: iol-abi-testing
Test-Status: SUCCESS
http://dpdk.org/patch/136872
_Testing PASS_
Submitter: Alan Elder <alan.elder at microsoft.com>
Date: Monday, February 19 2024 09:31:39
DPDK git baseline: Repo:dpdk
Branch: master
CommitID:600eded75d816b23a8b1bce7114f5e0bbc932f38
136871-136872 --> testing pass
Test environment and result as below:
+------------------+----------+
| Environment | abi_test |
+==================+==========+
| CentOS Stream 9 | PASS |
+------------------+----------+
| openSUSE Leap 15 | PASS |
+------------------+----------+
| CentOS Stream 8 | PASS |
+------------------+----------+
CentOS Stream 9
Kernel: 4.18.0-240.10.1.el8_3.x86_64
Compiler: gcc 11.3.1 20220421
openSUSE Leap 15
Kernel: 4.18.0-240.10.1.el8_3.x86_64
Compiler: gcc 7.5.0
CentOS Stream 8
Kernel: 4.18.0-240.10.1.el8_3.x86_64
Compiler: gcc 8.4.1 20200928
To view detailed results, visit:
https://lab.dpdk.org/results/dashboard/patchsets/29180/
UNH-IOL DPDK Community Lab
To manage your email subscriptions, visit:
https://lab.dpdk.org/results/dashboard/preferences/subscriptions/
More information about the test-report
mailing list