|SUCCESS| [GIT MASTER] 4aa3ea9d5a17df941fab13a648e69b8de8573992

dpdklab at iol.unh.edu dpdklab at iol.unh.edu
Tue Feb 20 03:27:22 CET 2024


_Testing PASS_

Branch: dpdk

4aa3ea9d5a17df941fab13a648e69b8de8573992 --> testing pass

Test environment and result as below:

+-----------------------+--------------+------------------------------+---------------------------+----------------+
|      Environment      | lpm_autotest | cryptodev_sw_snow3g_autotest | cryptodev_sw_zuc_autotest | dpdk_unit_test |
+=======================+==============+==============================+===========================+================+
| Ubuntu 20.04 ARM SVE  | PASS         | SKIPPED                      | SKIPPED                   | SKIPPED        |
+-----------------------+--------------+------------------------------+---------------------------+----------------+
| Debian 11 (arm)       | SKIPPED      | PASS                         | PASS                      | SKIPPED        |
+-----------------------+--------------+------------------------------+---------------------------+----------------+
| CentOS Stream 9 (ARM) | SKIPPED      | SKIPPED                      | SKIPPED                   | PASS           |
+-----------------------+--------------+------------------------------+---------------------------+----------------+


Ubuntu 20.04 ARM SVE
	Kernel: 5.4.0-80-generic
	Compiler: gcc 10.3.0 (Ubuntu 10.3.0-1ubuntu1~20.04)

Debian 11 (arm)
	Kernel: Container Host Kernel
	Compiler: gcc 10.2.1

CentOS Stream 9 (ARM)
	Kernel: Container Host Kernel
	Compiler: gcc 11.3.1

To view detailed results, visit:
https://lab.dpdk.org/results/dashboard/tarballs/28051/

UNH-IOL DPDK Community Lab

To manage your email subscriptions, visit: 
https://lab.dpdk.org/results/dashboard/preferences/subscriptions/


More information about the test-report mailing list