|SUCCESS| pw136879-136882 [PATCH] [v2,4/4] config/arm: add AWS Gravi
dpdklab at iol.unh.edu
dpdklab at iol.unh.edu
Tue Feb 20 05:21:41 CET 2024
Test-Label: iol-unit-arm64-testing
Test-Status: SUCCESS
http://dpdk.org/patch/136882
_Testing PASS_
Submitter: Honnappa Nagarahalli <honnappa.nagarahalli at arm.com>
Date: Tuesday, February 20 2024 01:45:33
DPDK git baseline: Repo:dpdk
Branch: master
CommitID:4aa3ea9d5a17df941fab13a648e69b8de8573992
136879-136882 --> testing pass
Test environment and result as below:
+--------------------------+--------------+------------------------------+----------------+---------------------------+
| Environment | lpm_autotest | cryptodev_sw_snow3g_autotest | dpdk_unit_test | cryptodev_sw_zuc_autotest |
+==========================+==============+==============================+================+===========================+
| Ubuntu 20.04 ARM SVE | PASS | SKIPPED | SKIPPED | SKIPPED |
+--------------------------+--------------+------------------------------+----------------+---------------------------+
| Debian 11 (arm) | SKIPPED | PASS | SKIPPED | PASS |
+--------------------------+--------------+------------------------------+----------------+---------------------------+
| CentOS Stream 9 (ARM) | SKIPPED | SKIPPED | PASS | SKIPPED |
+--------------------------+--------------+------------------------------+----------------+---------------------------+
| Fedora 37 (ARM) | SKIPPED | SKIPPED | PASS | SKIPPED |
+--------------------------+--------------+------------------------------+----------------+---------------------------+
| Fedora 38 (ARM) | SKIPPED | SKIPPED | PASS | SKIPPED |
+--------------------------+--------------+------------------------------+----------------+---------------------------+
| Debian 11 (Buster) (ARM) | SKIPPED | SKIPPED | PASS | SKIPPED |
+--------------------------+--------------+------------------------------+----------------+---------------------------+
| Ubuntu 20.04 (ARM) | SKIPPED | SKIPPED | PASS | SKIPPED |
+--------------------------+--------------+------------------------------+----------------+---------------------------+
| Fedora 38 (ARM Clang) | SKIPPED | SKIPPED | PASS | SKIPPED |
+--------------------------+--------------+------------------------------+----------------+---------------------------+
Ubuntu 20.04 ARM SVE
Kernel: 5.4.0-80-generic
Compiler: gcc 10.3.0 (Ubuntu 10.3.0-1ubuntu1~20.04)
Debian 11 (arm)
Kernel: Container Host Kernel
Compiler: gcc 10.2.1
CentOS Stream 9 (ARM)
Kernel: Container Host Kernel
Compiler: gcc 11.3.1
Fedora 37 (ARM)
Kernel: Depends on container host
Compiler: gcc 12.3.1
Fedora 38 (ARM)
Kernel: Depends on container host
Compiler: gcc 13.1.1
Debian 11 (Buster) (ARM)
Kernel: Container Host Kernel
Compiler: gcc 10.2.1
Ubuntu 20.04 (ARM)
Kernel: Container Host Kernel
Compiler: gcc 9.4.0
Fedora 38 (ARM Clang)
Kernel: Depends on container host
Compiler: clang 16.0.3
To view detailed results, visit:
https://lab.dpdk.org/results/dashboard/patchsets/29183/
UNH-IOL DPDK Community Lab
To manage your email subscriptions, visit:
https://lab.dpdk.org/results/dashboard/preferences/subscriptions/
More information about the test-report
mailing list