|SUCCESS| pw136878 [PATCH] [v12] net/iavf: add diagnostic support in

dpdklab at iol.unh.edu dpdklab at iol.unh.edu
Tue Feb 20 05:24:03 CET 2024


Test-Label: iol-unit-arm64-testing
Test-Status: SUCCESS
http://dpdk.org/patch/136878

_Testing PASS_

Submitter: Mingjin Ye <mingjinx.ye at intel.com>
Date: Monday, February 19 2024 09:55:14 
DPDK git baseline: Repo:dpdk
  Branch: master
  CommitID:4e7732d6c4c64514dc26c3cc0203d19851b5f5aa

136878 --> testing pass

Test environment and result as below:

+--------------------------+--------------+----------------+
|       Environment        | lpm_autotest | dpdk_unit_test |
+==========================+==============+================+
| Ubuntu 20.04 ARM SVE     | PASS         | SKIPPED        |
+--------------------------+--------------+----------------+
| CentOS Stream 9 (ARM)    | SKIPPED      | PASS           |
+--------------------------+--------------+----------------+
| Debian 11 (Buster) (ARM) | SKIPPED      | PASS           |
+--------------------------+--------------+----------------+


Ubuntu 20.04 ARM SVE
	Kernel: 5.4.0-80-generic
	Compiler: gcc 10.3.0 (Ubuntu 10.3.0-1ubuntu1~20.04)

CentOS Stream 9 (ARM)
	Kernel: Container Host Kernel
	Compiler: gcc 11.3.1

Debian 11 (Buster) (ARM)
	Kernel: Container Host Kernel
	Compiler: gcc 10.2.1

To view detailed results, visit:
https://lab.dpdk.org/results/dashboard/patchsets/29182/

UNH-IOL DPDK Community Lab

To manage your email subscriptions, visit: 
https://lab.dpdk.org/results/dashboard/preferences/subscriptions/


More information about the test-report mailing list