|SUCCESS| pw136885-136887 [PATCH] [4/4] cfgfile: add unique name fla
dpdklab at iol.unh.edu
dpdklab at iol.unh.edu
Tue Feb 20 06:24:52 CET 2024
Test-Label: iol-unit-arm64-testing
Test-Status: SUCCESS
http://dpdk.org/patch/136887
_Testing PASS_
Submitter: Chengwen Feng <fengchengwen at huawei.com>
Date: Tuesday, February 20 2024 03:58:40
DPDK git baseline: Repo:dpdk
Branch: master
CommitID:4aa3ea9d5a17df941fab13a648e69b8de8573992
136885-136887 --> testing pass
Test environment and result as below:
+-----------------------+--------------+----------------+
| Environment | lpm_autotest | dpdk_unit_test |
+=======================+==============+================+
| Ubuntu 20.04 ARM SVE | PASS | SKIPPED |
+-----------------------+--------------+----------------+
| CentOS Stream 9 (ARM) | SKIPPED | PASS |
+-----------------------+--------------+----------------+
| Fedora 37 (ARM) | SKIPPED | PASS |
+-----------------------+--------------+----------------+
Ubuntu 20.04 ARM SVE
Kernel: 5.4.0-80-generic
Compiler: gcc 10.3.0 (Ubuntu 10.3.0-1ubuntu1~20.04)
CentOS Stream 9 (ARM)
Kernel: Container Host Kernel
Compiler: gcc 11.3.1
Fedora 37 (ARM)
Kernel: Depends on container host
Compiler: gcc 12.3.1
To view detailed results, visit:
https://lab.dpdk.org/results/dashboard/patchsets/29185/
UNH-IOL DPDK Community Lab
To manage your email subscriptions, visit:
https://lab.dpdk.org/results/dashboard/preferences/subscriptions/
More information about the test-report
mailing list