|SUCCESS| [GIT MASTER] fa24b3f588b31ee9699f6b2dde8d12c0453448d1
dpdklab at iol.unh.edu
dpdklab at iol.unh.edu
Tue Feb 20 08:51:21 CET 2024
_Testing PASS_
Branch: dpdk-next-net
fa24b3f588b31ee9699f6b2dde8d12c0453448d1 --> testing pass
Test environment and result as below:
+--------------------+--------------------+
| Environment | dpdk_meson_compile |
+====================+====================+
| Ubuntu 20.04 (ARM) | PASS |
+--------------------+--------------------+
| Fedora 38 (ARM) | PASS |
+--------------------+--------------------+
| Fedora 37 (ARM) | PASS |
+--------------------+--------------------+
Ubuntu 20.04 (ARM)
Kernel: Container Host Kernel
Compiler: gcc 9.4.0
Fedora 38 (ARM)
Kernel: Depends on container host
Compiler: gcc 13.1.1
Fedora 37 (ARM)
Kernel: Depends on container host
Compiler: gcc 12.3.1
To view detailed results, visit:
https://lab.dpdk.org/results/dashboard/tarballs/28059/
UNH-IOL DPDK Community Lab
To manage your email subscriptions, visit:
https://lab.dpdk.org/results/dashboard/preferences/subscriptions/
More information about the test-report
mailing list