|SUCCESS| pw136890 [PATCH] dispatcher: add cache guard to per-lcore

dpdklab at iol.unh.edu dpdklab at iol.unh.edu
Tue Feb 20 13:01:16 CET 2024


Test-Label: iol-unit-arm64-testing
Test-Status: SUCCESS
http://dpdk.org/patch/136890

_Testing PASS_

Submitter: Mattias Ronnblom <mattias.ronnblom at ericsson.com>
Date: Tuesday, February 20 2024 08:35:04 
DPDK git baseline: Repo:dpdk
  Branch: master
  CommitID:4aa3ea9d5a17df941fab13a648e69b8de8573992

136890 --> testing pass

Test environment and result as below:

+----------------------+--------------+---------------------------+------------------------------+
|     Environment      | lpm_autotest | cryptodev_sw_zuc_autotest | cryptodev_sw_snow3g_autotest |
+======================+==============+===========================+==============================+
| Ubuntu 20.04 ARM SVE | PASS         | SKIPPED                   | SKIPPED                      |
+----------------------+--------------+---------------------------+------------------------------+
| Debian 11 (arm)      | SKIPPED      | PASS                      | PASS                         |
+----------------------+--------------+---------------------------+------------------------------+


Ubuntu 20.04 ARM SVE
	Kernel: 5.4.0-80-generic
	Compiler: gcc 10.3.0 (Ubuntu 10.3.0-1ubuntu1~20.04)

Debian 11 (arm)
	Kernel: Container Host Kernel
	Compiler: gcc 10.2.1

To view detailed results, visit:
https://lab.dpdk.org/results/dashboard/patchsets/29187/

UNH-IOL DPDK Community Lab

To manage your email subscriptions, visit: 
https://lab.dpdk.org/results/dashboard/preferences/subscriptions/


More information about the test-report mailing list