|SUCCESS| pw136898-136903 [PATCH] [v3,7/7] net/hns3: support filter
dpdklab at iol.unh.edu
dpdklab at iol.unh.edu
Tue Feb 20 15:49:51 CET 2024
Test-Label: iol-unit-arm64-testing
Test-Status: SUCCESS
http://dpdk.org/patch/136903
_Testing PASS_
Submitter: Jie Hai <haijie1 at huawei.com>
Date: Tuesday, February 20 2024 10:58:23
DPDK git baseline: Repo:dpdk
Branch: master
CommitID:fa24b3f588b31ee9699f6b2dde8d12c0453448d1
136898-136903 --> testing pass
Test environment and result as below:
+----------------------+--------------+------------------------------+---------------------------+
| Environment | lpm_autotest | cryptodev_sw_snow3g_autotest | cryptodev_sw_zuc_autotest |
+======================+==============+==============================+===========================+
| Ubuntu 20.04 ARM SVE | PASS | SKIPPED | SKIPPED |
+----------------------+--------------+------------------------------+---------------------------+
| Debian 11 (arm) | SKIPPED | PASS | PASS |
+----------------------+--------------+------------------------------+---------------------------+
Ubuntu 20.04 ARM SVE
Kernel: 5.4.0-80-generic
Compiler: gcc 10.3.0 (Ubuntu 10.3.0-1ubuntu1~20.04)
Debian 11 (arm)
Kernel: Container Host Kernel
Compiler: gcc 10.2.1
To view detailed results, visit:
https://lab.dpdk.org/results/dashboard/patchsets/29190/
UNH-IOL DPDK Community Lab
To manage your email subscriptions, visit:
https://lab.dpdk.org/results/dashboard/preferences/subscriptions/
More information about the test-report
mailing list