|SUCCESS| pw136919 [PATCH] net/mlx5: fix error packets drop in the r
dpdklab at iol.unh.edu
dpdklab at iol.unh.edu
Tue Feb 20 16:26:29 CET 2024
Test-Label: iol-compile-amd64-testing
Test-Status: SUCCESS
http://dpdk.org/patch/136919
_Testing PASS_
Submitter: Viacheslav Ovsiienko <viacheslavo at nvidia.com>
Date: Tuesday, February 20 2024 11:45:20
DPDK git baseline: Repo:dpdk
Branch: master
CommitID:ee45c93a16dd5e11b7779f18db9173fd8de8df74
136919 --> testing pass
Test environment and result as below:
+---------------------+--------------------+----------------------+
| Environment | dpdk_meson_compile | dpdk_mingw64_compile |
+=====================+====================+======================+
| Windows Server 2022 | PASS | SKIPPED |
+---------------------+--------------------+----------------------+
| FreeBSD 13.2 | PASS | SKIPPED |
+---------------------+--------------------+----------------------+
| Windows Server 2019 | PASS | PASS |
+---------------------+--------------------+----------------------+
Windows Server 2022
Kernel: OS Build 20348.2031
Compiler: MSVC VS-Preview
FreeBSD 13.2
Kernel: 13.2
Compiler: clang 11.3.0
Windows Server 2019
Kernel: 10.0
Compiler: clang 14.0 and gcc 8.1.0 (MinGW)
To view detailed results, visit:
https://lab.dpdk.org/results/dashboard/patchsets/29193/
UNH-IOL DPDK Community Lab
To manage your email subscriptions, visit:
https://lab.dpdk.org/results/dashboard/preferences/subscriptions/
More information about the test-report
mailing list