|SUCCESS| pw136924 [PATCH] [v6] mempool: test performance with large

dpdklab at iol.unh.edu dpdklab at iol.unh.edu
Tue Feb 20 17:36:00 CET 2024


Test-Label: iol-compile-amd64-testing
Test-Status: SUCCESS
http://dpdk.org/patch/136924

_Testing PASS_

Submitter: Morten Brorup <mb at smartsharesystems.com>
Date: Tuesday, February 20 2024 14:01:53 
DPDK git baseline: Repo:dpdk
  Branch: master
  CommitID:4aa3ea9d5a17df941fab13a648e69b8de8573992

136924 --> testing pass

Test environment and result as below:

+---------------------+--------------------+
|     Environment     | dpdk_meson_compile |
+=====================+====================+
| Windows Server 2022 | PASS               |
+---------------------+--------------------+
| FreeBSD 13.2        | PASS               |
+---------------------+--------------------+
| Windows Server 2019 | PASS               |
+---------------------+--------------------+


Windows Server 2022
	Kernel: OS Build 20348.2031
	Compiler: MSVC VS-Preview

FreeBSD 13.2
	Kernel: 13.2
	Compiler: clang 11.3.0

Windows Server 2019
	Kernel: 10.0
	Compiler: clang 14.0 and gcc 8.1.0 (MinGW)

To view detailed results, visit:
https://lab.dpdk.org/results/dashboard/patchsets/29195/

UNH-IOL DPDK Community Lab

To manage your email subscriptions, visit: 
https://lab.dpdk.org/results/dashboard/preferences/subscriptions/


More information about the test-report mailing list