|SUCCESS| [GIT MASTER] 4aa3ea9d5a17df941fab13a648e69b8de8573992
dpdklab at iol.unh.edu
dpdklab at iol.unh.edu
Tue Feb 20 22:09:49 CET 2024
_Testing PASS_
Branch: dpdk-next-crypto
4aa3ea9d5a17df941fab13a648e69b8de8573992 --> testing pass
Test environment and result as below:
+---------------------+----------------+
| Environment | dpdk_unit_test |
+=====================+================+
| CentOS Stream 8 | PASS |
+---------------------+----------------+
| Fedora 38 | PASS |
+---------------------+----------------+
| Windows Server 2019 | PASS |
+---------------------+----------------+
| Fedora 37 | PASS |
+---------------------+----------------+
CentOS Stream 8
Kernel: 4.18.0-240.10.1.el8_3.x86_64
Compiler: gcc 8.4.1 20200928
Fedora 38
Kernel: Depends on container host
Compiler: gcc 13.1.1
Windows Server 2019
Kernel: 10.0
Compiler: clang 14.0 and gcc 8.1.0 (MinGW)
Fedora 37
Kernel: Depends on container host system
Compiler: gcc 12.3.1
To view detailed results, visit:
https://lab.dpdk.org/results/dashboard/tarballs/28072/
UNH-IOL DPDK Community Lab
To manage your email subscriptions, visit:
https://lab.dpdk.org/results/dashboard/preferences/subscriptions/
More information about the test-report
mailing list