|SUCCESS| pw136975-136977 [PATCH] [v4,3/3] config/arm: allow WFE to

dpdklab at iol.unh.edu dpdklab at iol.unh.edu
Wed Feb 21 23:14:46 CET 2024


Test-Label: iol-unit-arm64-testing
Test-Status: SUCCESS
http://dpdk.org/patch/136977

_Testing PASS_

Submitter: Pavan Nikhilesh Bhagavatula <pbhagavatula at marvell.com>
Date: Wednesday, February 21 2024 20:20:18 
DPDK git baseline: Repo:dpdk
  Branch: master
  CommitID:92d644f1d58838561d0996b2d4a9f5d276e41651

136975-136977 --> testing pass

Test environment and result as below:

+-----------------------+--------------+---------------------------+------------------------------+----------------+
|      Environment      | lpm_autotest | cryptodev_sw_zuc_autotest | cryptodev_sw_snow3g_autotest | dpdk_unit_test |
+=======================+==============+===========================+==============================+================+
| Ubuntu 20.04 ARM SVE  | PASS         | SKIPPED                   | SKIPPED                      | SKIPPED        |
+-----------------------+--------------+---------------------------+------------------------------+----------------+
| Debian 11 (arm)       | SKIPPED      | PASS                      | PASS                         | SKIPPED        |
+-----------------------+--------------+---------------------------+------------------------------+----------------+
| CentOS Stream 9 (ARM) | SKIPPED      | SKIPPED                   | SKIPPED                      | PASS           |
+-----------------------+--------------+---------------------------+------------------------------+----------------+


Ubuntu 20.04 ARM SVE
	Kernel: 5.4.0-80-generic
	Compiler: gcc 10.3.0 (Ubuntu 10.3.0-1ubuntu1~20.04)

Debian 11 (arm)
	Kernel: Container Host Kernel
	Compiler: gcc 10.2.1

CentOS Stream 9 (ARM)
	Kernel: Container Host Kernel
	Compiler: gcc 11.3.1

To view detailed results, visit:
https://lab.dpdk.org/results/dashboard/patchsets/29214/

UNH-IOL DPDK Community Lab

To manage your email subscriptions, visit: 
https://lab.dpdk.org/results/dashboard/preferences/subscriptions/


More information about the test-report mailing list